BEGIN:VCALENDAR
VERSION:2.0
PRODID:-//Marion High School Alumni Association - ECPv6.15.17.1//NONSGML v1.0//EN
CALSCALE:GREGORIAN
METHOD:PUBLISH
X-ORIGINAL-URL:https://mhsalum.com
X-WR-CALDESC:Events for Marion High School Alumni Association
REFRESH-INTERVAL;VALUE=DURATION:PT1H
X-Robots-Tag:noindex
X-PUBLISHED-TTL:PT1H
BEGIN:VTIMEZONE
TZID:America/Indiana/Indianapolis
BEGIN:DAYLIGHT
TZOFFSETFROM:-0500
TZOFFSETTO:-0400
TZNAME:EDT
DTSTART:20140309T070000
END:DAYLIGHT
BEGIN:STANDARD
TZOFFSETFROM:-0400
TZOFFSETTO:-0500
TZNAME:EST
DTSTART:20141102T060000
END:STANDARD
BEGIN:DAYLIGHT
TZOFFSETFROM:-0500
TZOFFSETTO:-0400
TZNAME:EDT
DTSTART:20150308T070000
END:DAYLIGHT
BEGIN:STANDARD
TZOFFSETFROM:-0400
TZOFFSETTO:-0500
TZNAME:EST
DTSTART:20151101T060000
END:STANDARD
BEGIN:DAYLIGHT
TZOFFSETFROM:-0500
TZOFFSETTO:-0400
TZNAME:EDT
DTSTART:20160313T070000
END:DAYLIGHT
BEGIN:STANDARD
TZOFFSETFROM:-0400
TZOFFSETTO:-0500
TZNAME:EST
DTSTART:20161106T060000
END:STANDARD
END:VTIMEZONE
BEGIN:VEVENT
DTSTART;TZID=America/Indiana/Indianapolis:20150115T190000
DTEND;TZID=America/Indiana/Indianapolis:20150115T210000
DTSTAMP:20260422T210154
CREATED:20150225T131916Z
LAST-MODIFIED:20151014T165812Z
UID:8068-1421348400-1421355600@mhsalum.com
SUMMARY:MCS School Board meeting
DESCRIPTION:A regular meeting of the Board of School Trustees will usually be scheduled for the second and fourth Wednesdays of each month. The meetings will take place in the Board Room (Room 4-4) at the District Offices at Marion High School\, 750 W. 26th St.\, Marion\, Indiana\, 46953. Telephone: 765-662-2546.
URL:https://mhsalum.com/event/mcs-school-board-meeting/2015-01-15/
LOCATION:District Board Room (4-4) at Marion High School\, 750 W. 26th St.\, Marion\, IN\, 46953\, United States
CATEGORIES:Meetings,School Board
ATTACH;FMTTYPE=image/png:https://mhsalum.com/wp-content/uploads/2015/02/MCS_logo_TEXTonly_URL_webSQUARE.png
GEO:40.540881;-85.667799
X-APPLE-STRUCTURED-LOCATION;VALUE=URI;X-ADDRESS=District Board Room (4-4) at Marion High School 750 W. 26th St. Marion IN 46953 United States;X-APPLE-RADIUS=500;X-TITLE=750 W. 26th St.:geo:-85.667799,40.540881
END:VEVENT
BEGIN:VEVENT
DTSTART;TZID=America/Indiana/Indianapolis:20150128T190000
DTEND;TZID=America/Indiana/Indianapolis:20150128T210000
DTSTAMP:20260422T210154
CREATED:20150225T133544Z
LAST-MODIFIED:20151014T170128Z
UID:8085-1422471600-1422478800@mhsalum.com
SUMMARY:MCS School Board meeting
DESCRIPTION:A regular meeting of the Board of School Trustees will usually be scheduled for the second and fourth Wednesdays of each month. The meetings will take place in the Board Room (Room 4-4) at the District Offices at Marion High School\, 750 W. 26th St.\, Marion\, Indiana\, 46953. Telephone: 765-662-2546.
URL:https://mhsalum.com/event/mcs-school-board-meeting-2/2015-01-28/
LOCATION:District Board Room (4-4) at Marion High School\, 750 W. 26th St.\, Marion\, IN\, 46953\, United States
CATEGORIES:Meetings,School Board
ATTACH;FMTTYPE=image/png:https://mhsalum.com/wp-content/uploads/2015/02/MCS_logo_TEXTonly_URL_webSQUARE.png
GEO:40.540881;-85.667799
X-APPLE-STRUCTURED-LOCATION;VALUE=URI;X-ADDRESS=District Board Room (4-4) at Marion High School 750 W. 26th St. Marion IN 46953 United States;X-APPLE-RADIUS=500;X-TITLE=750 W. 26th St.:geo:-85.667799,40.540881
END:VEVENT
END:VCALENDAR