BEGIN:VCALENDAR
VERSION:2.0
PRODID:-//Marion High School Alumni Association - ECPv6.15.17.1//NONSGML v1.0//EN
CALSCALE:GREGORIAN
METHOD:PUBLISH
X-ORIGINAL-URL:https://mhsalum.com
X-WR-CALDESC:Events for Marion High School Alumni Association
REFRESH-INTERVAL;VALUE=DURATION:PT1H
X-Robots-Tag:noindex
X-PUBLISHED-TTL:PT1H
BEGIN:VTIMEZONE
TZID:America/Indiana/Indianapolis
BEGIN:DAYLIGHT
TZOFFSETFROM:-0500
TZOFFSETTO:-0400
TZNAME:EDT
DTSTART:20130310T070000
END:DAYLIGHT
BEGIN:STANDARD
TZOFFSETFROM:-0400
TZOFFSETTO:-0500
TZNAME:EST
DTSTART:20131103T060000
END:STANDARD
BEGIN:DAYLIGHT
TZOFFSETFROM:-0500
TZOFFSETTO:-0400
TZNAME:EDT
DTSTART:20140309T070000
END:DAYLIGHT
BEGIN:STANDARD
TZOFFSETFROM:-0400
TZOFFSETTO:-0500
TZNAME:EST
DTSTART:20141102T060000
END:STANDARD
BEGIN:DAYLIGHT
TZOFFSETFROM:-0500
TZOFFSETTO:-0400
TZNAME:EDT
DTSTART:20150308T070000
END:DAYLIGHT
BEGIN:STANDARD
TZOFFSETFROM:-0400
TZOFFSETTO:-0500
TZNAME:EST
DTSTART:20151101T060000
END:STANDARD
END:VTIMEZONE
BEGIN:VEVENT
DTSTART;TZID=America/Indiana/Indianapolis:20141202T120000
DTEND;TZID=America/Indiana/Indianapolis:20141202T130000
DTSTAMP:20260425T063344
CREATED:20141204T182053Z
LAST-MODIFIED:20150225T132058Z
UID:816-1417521600-1417525200@mhsalum.com
SUMMARY:Board Meeting
DESCRIPTION:
URL:https://mhsalum.com/event/board-meeting/2014-12-02/
LOCATION:United Way of Grant County\, 205 S. Washington St.\, Marion\, IN\, 46952\, United States
CATEGORIES:Meetings,MHSAA Board
ATTACH;FMTTYPE=image/jpeg:https://mhsalum.com/wp-content/uploads/2014/12/Marion-Alumni-Association-Logo300a.jpg
ORGANIZER;CN="John Earnest":MAILTO:johnlearnest@gmail.com
GEO:40.5595414;-85.6596432
X-APPLE-STRUCTURED-LOCATION;VALUE=URI;X-ADDRESS=United Way of Grant County 205 S. Washington St. Marion IN 46952 United States;X-APPLE-RADIUS=500;X-TITLE=205 S. Washington St.:geo:-85.6596432,40.5595414
END:VEVENT
BEGIN:VEVENT
DTSTART;TZID=America/Indiana/Indianapolis:20141212T193000
DTEND;TZID=America/Indiana/Indianapolis:20141212T213000
DTSTAMP:20260425T063344
CREATED:20141204T182530Z
LAST-MODIFIED:20141208T200433Z
UID:832-1418412600-1418419800@mhsalum.com
SUMMARY:Giants basketball | Capt. Brandon 'Bull' Barrett Scholarship Night
DESCRIPTION:Come help us honor the memory of a Giant who gave his life as a Marine in Afghanistan\, Capt. Brandon “Bull” Barrett. Funds will be raised for the scholarship given in his honor every year to an MHS athlete (administered by the Community Foundation of Grant County). \nThis will also be a night to honor all veterans\, and thanks to our game sponsor\, American Wireless\, the first 5\,000 fans will get a free American flag. The MHS JROTC is also putting together a special presentation\, and former Marine John Kirkwood will sing the national anthem\, and will also perform at half time of the boys game. \n>> Click here for more information on the game from MarionGiantsSports.com
URL:https://mhsalum.com/event/capt-brandon-bull-barrett-scholarship-night/
LOCATION:Bill Green Arena at MHS\, 750 W. 26th St.\, Marion\, IN\, 46953\, United States
CATEGORIES:Athletics
ORGANIZER;CN="Marion Giants Athletics Department | Marion High School":MAILTO:athletics[at]mariongiantssports.com
GEO:40.540881;-85.667799
X-APPLE-STRUCTURED-LOCATION;VALUE=URI;X-ADDRESS=Bill Green Arena at MHS 750 W. 26th St. Marion IN 46953 United States;X-APPLE-RADIUS=500;X-TITLE=750 W. 26th St.:geo:-85.667799,40.540881
END:VEVENT
BEGIN:VEVENT
DTSTART;TZID=America/Indiana/Indianapolis:20141213T200000
DTEND;TZID=America/Indiana/Indianapolis:20141213T220000
DTSTAMP:20260425T063344
CREATED:20141208T200032Z
LAST-MODIFIED:20141208T200512Z
UID:1164-1418500800-1418508000@mhsalum.com
SUMMARY:Giants basketball | MHS Principal Lennon Brown Night
DESCRIPTION:This is a night to honor and thank MHS Principal Lennon Brown\, who is retiring at the end of the month. In his four years at MHS\, Mr. Brown has led our alma mater from the brink of state takeover to state and national accolades for its success! \n>> Click here for information about Lennon Brown Night from MarionGiantsSports.com
URL:https://mhsalum.com/event/giants-basketball-mhs-principal-lennon-brown-night/
LOCATION:Bill Green Arena at MHS\, 750 W. 26th St.\, Marion\, IN\, 46953\, United States
ORGANIZER;CN="Marion Giants Athletics Department | Marion High School":MAILTO:athletics[at]mariongiantssports.com
GEO:40.540881;-85.667799
X-APPLE-STRUCTURED-LOCATION;VALUE=URI;X-ADDRESS=Bill Green Arena at MHS 750 W. 26th St. Marion IN 46953 United States;X-APPLE-RADIUS=500;X-TITLE=750 W. 26th St.:geo:-85.667799,40.540881
END:VEVENT
BEGIN:VEVENT
DTSTART;TZID=America/Indiana/Indianapolis:20141214T143000
DTEND;TZID=America/Indiana/Indianapolis:20141214T170000
DTSTAMP:20260425T063344
CREATED:20141204T205910Z
LAST-MODIFIED:20141204T205910Z
UID:869-1418567400-1418576400@mhsalum.com
SUMMARY:MHS Choral Department's Holiday Extravaganza
DESCRIPTION:
URL:https://mhsalum.com/event/mhs-choral-departments-holiday-extravaganza/
LOCATION:F. Ritchie Walton Performing Arts Center at MHS\, 750 W. 26th St.\, Marion\, IN\, 46953\, United States
CATEGORIES:Special Events
GEO:40.540881;-85.667799
X-APPLE-STRUCTURED-LOCATION;VALUE=URI;X-ADDRESS=F. Ritchie Walton Performing Arts Center at MHS 750 W. 26th St. Marion IN 46953 United States;X-APPLE-RADIUS=500;X-TITLE=750 W. 26th St.:geo:-85.667799,40.540881
END:VEVENT
END:VCALENDAR