BEGIN:VCALENDAR
VERSION:2.0
PRODID:-//Marion High School Alumni Association - ECPv6.15.17.1//NONSGML v1.0//EN
CALSCALE:GREGORIAN
METHOD:PUBLISH
X-ORIGINAL-URL:https://mhsalum.com
X-WR-CALDESC:Events for Marion High School Alumni Association
REFRESH-INTERVAL;VALUE=DURATION:PT1H
X-Robots-Tag:noindex
X-PUBLISHED-TTL:PT1H
BEGIN:VTIMEZONE
TZID:America/Indiana/Indianapolis
BEGIN:DAYLIGHT
TZOFFSETFROM:-0500
TZOFFSETTO:-0400
TZNAME:EDT
DTSTART:20140309T070000
END:DAYLIGHT
BEGIN:STANDARD
TZOFFSETFROM:-0400
TZOFFSETTO:-0500
TZNAME:EST
DTSTART:20141102T060000
END:STANDARD
BEGIN:DAYLIGHT
TZOFFSETFROM:-0500
TZOFFSETTO:-0400
TZNAME:EDT
DTSTART:20150308T070000
END:DAYLIGHT
BEGIN:STANDARD
TZOFFSETFROM:-0400
TZOFFSETTO:-0500
TZNAME:EST
DTSTART:20151101T060000
END:STANDARD
BEGIN:DAYLIGHT
TZOFFSETFROM:-0500
TZOFFSETTO:-0400
TZNAME:EDT
DTSTART:20160313T070000
END:DAYLIGHT
BEGIN:STANDARD
TZOFFSETFROM:-0400
TZOFFSETTO:-0500
TZNAME:EST
DTSTART:20161106T060000
END:STANDARD
END:VTIMEZONE
BEGIN:VEVENT
DTSTART;VALUE=DATE:20150717
DTEND;VALUE=DATE:20150718
DTSTAMP:20260424T190315
CREATED:20150603T160316Z
LAST-MODIFIED:20150604T141132Z
UID:16519-1437091200-1437177599@mhsalum.com
SUMMARY:Giant Challenge 2015 Golf Scramble
DESCRIPTION:This summer\, we’re participating in a special alumni event called the Giant Challenge. We’re inviting former Giant athletes to come back for a friendly competition with current athletes. All funds raised through these events July 17-18\, 2015\, will help provide funding for Marion Community Schools athletic programs. \n>> Golf Scramble details: More info\, including how you can set your tee time now!   Tell me more!\n>> Weekend overview: Who’s playing\, when/where.   Tell me more!\n>> Spread the word! Download and display the event flier.   Show me!\n\nWill you also consider giving to the Giant Dreams Endowed Giving Campaign? Click here to learn more about the campaign!
URL:https://mhsalum.com/event/giant-challenge-2015-golf-scramble/
LOCATION:Meshingomesia Golf and Social Club\, 2225 Lagro Road\, Marion\, IN\, 46952\, United States
CATEGORIES:Athletics,Entertainment,Fundraisers,Special Events
ATTACH;FMTTYPE=image/jpeg:https://mhsalum.com/wp-content/uploads/2015/06/GiantChallenge_golfscramble.jpg
ORGANIZER;CN="Doug Hill":MAILTO:drhill[at]pga.com
GEO:40.5920819;-85.6607211
X-APPLE-STRUCTURED-LOCATION;VALUE=URI;X-ADDRESS=Meshingomesia Golf and Social Club 2225 Lagro Road Marion IN 46952 United States;X-APPLE-RADIUS=500;X-TITLE=2225 Lagro Road:geo:-85.6607211,40.5920819
END:VEVENT
BEGIN:VEVENT
DTSTART;VALUE=DATE:20150717
DTEND;VALUE=DATE:20150719
DTSTAMP:20260424T190315
CREATED:20150330T135343Z
LAST-MODIFIED:20150731T143321Z
UID:11604-1437091200-1437263999@mhsalum.com
SUMMARY:Class of 1965 50th Reunion
DESCRIPTION:Members of the Marion High School Class of 1965 will gather this summer for their 50th year reunion! We hope to see all of our classmates and their families there!
URL:https://mhsalum.com/event/class-of-1965-50th-reunion/
CATEGORIES:Reunions
END:VEVENT
BEGIN:VEVENT
DTSTART;VALUE=DATE:20150717
DTEND;VALUE=DATE:20150719
DTSTAMP:20260424T190315
CREATED:20150424T200836Z
LAST-MODIFIED:20150604T141059Z
UID:14122-1437091200-1437263999@mhsalum.com
SUMMARY:Giant Challenge: Alumni vs. Athletes
DESCRIPTION:This summer\, we’re participating in a special alumni event called the Giant Challenge. We’re inviting former Giant athletes to come back for a friendly competition with current athletes. All funds raised through these events July 17-18\, 2015\, will help provide funding for Marion Community Schools athletic programs. \nThere will be several sporting events. Alumni can sign up to participate for a one-time fee of $25. (You don’t have to pay for each event you play in\, only once.) Spectator passes will also be available. Watch for more information! \n>> Weekend overview: Who’s playing\, when/where.   Tell me more!\n>> Spread the word! Download and display the event flier.   Show me!\n\nWill you also consider giving to the Giant Dreams Endowed Giving Campaign? Click here to learn more about the campaign!
URL:https://mhsalum.com/event/giant-challenge-alumni-vs-athletes/
LOCATION:Marion High School\, 750 West 26th Street\, Marion\, IN\, 46953\, United States
CATEGORIES:Athletics,Entertainment,Fundraisers,Special Events
ATTACH;FMTTYPE=image/jpeg:https://mhsalum.com/wp-content/uploads/2015/04/GiantChallenge2015.jpg
ORGANIZER;CN="Mark Fauser":MAILTO:mfauser[at]marion.k12.in.us
GEO:40.540881;-85.667799
X-APPLE-STRUCTURED-LOCATION;VALUE=URI;X-ADDRESS=Marion High School 750 West 26th Street Marion IN 46953 United States;X-APPLE-RADIUS=500;X-TITLE=750 West 26th Street:geo:-85.667799,40.540881
END:VEVENT
BEGIN:VEVENT
DTSTART;TZID=America/Indiana/Indianapolis:20150717T160000
DTEND;TZID=America/Indiana/Indianapolis:20150717T180000
DTSTAMP:20260424T190315
CREATED:20150609T193704Z
LAST-MODIFIED:20150609T193704Z
UID:16542-1437148800-1437156000@mhsalum.com
SUMMARY:Giant Challenge 2015 Tennis Battle Royal
DESCRIPTION:This summer\, we’re participating in a special alumni event called the Giant Challenge. We’re inviting former Giant athletes to come back for a friendly competition with current athletes. All funds raised through these events July 17-18\, 2015\, will help provide funding for Marion Community Schools athletic programs. \n>> Tennis Battle Royal details: More info\, including how to register online!   Tell me more!\n>> Weekend overview: Who’s playing\, when/where.   Tell me more!\n>> Spread the word! Download and display the event flier.   Show me!\n\nWill you also consider giving to the Giant Dreams Endowed Giving Campaign? Click here to learn more about the campaign!
URL:https://mhsalum.com/event/giant-challenge-2015-tennis-battle-royal/
LOCATION:Bill Beekman Tennis Courts at Marion High School\, 750 w 26th st\, marion\, IN\, 46953\, United States
CATEGORIES:Athletics,Fundraisers,Special Events
ATTACH;FMTTYPE=image/png:https://mhsalum.com/wp-content/uploads/2015/06/GiantChallenge_TennisBattleRoyal.png
ORGANIZER;CN="Doug Porter":MAILTO:dporter[at]marion.k12.in.us
GEO:40.540881;-85.667799
X-APPLE-STRUCTURED-LOCATION;VALUE=URI;X-ADDRESS=Bill Beekman Tennis Courts at Marion High School 750 w 26th st marion IN 46953 United States;X-APPLE-RADIUS=500;X-TITLE=750 w 26th st:geo:-85.667799,40.540881
END:VEVENT
BEGIN:VEVENT
DTSTART;TZID=America/Indiana/Indianapolis:20150718T080000
DTEND;TZID=America/Indiana/Indianapolis:20150718T110000
DTSTAMP:20260424T190315
CREATED:20150604T140746Z
LAST-MODIFIED:20150604T140934Z
UID:16524-1437206400-1437217200@mhsalum.com
SUMMARY:Giant Challenge 2015 5K Run
DESCRIPTION:This summer\, we’re participating in a special alumni event called the Giant Challenge. We’re inviting former Giant athletes to come back for a friendly competition with current athletes. All funds raised through these events July 17-18\, 2015\, will help provide funding for Marion Community Schools athletic programs. \n>> 5K details: More info\, including how to register online!   Tell me more!\n>> Weekend overview: Who’s playing\, when/where.   Tell me more!\n>> Spread the word! Download and display the event flier.   Show me!\n\nWill you also consider giving to the Giant Dreams Endowed Giving Campaign? Click here to learn more about the campaign!
URL:https://mhsalum.com/event/giant-challenge-2015-5k/
LOCATION:Indiana Wesleyan University\, 4201 S. Washington St\, Marion\, IN\, 46953\, United States
CATEGORIES:Athletics,Fundraisers,Special Events
ATTACH;FMTTYPE=image/jpeg:https://mhsalum.com/wp-content/uploads/2015/06/GiantChallenge_5K.jpg
ORGANIZER;CN="Mark Fauser":MAILTO:mfauser[at]marion.k12.in.us
GEO:40.5209255;-85.6663125
X-APPLE-STRUCTURED-LOCATION;VALUE=URI;X-ADDRESS=Indiana Wesleyan University 4201 S. Washington St Marion IN 46953 United States;X-APPLE-RADIUS=500;X-TITLE=4201 S. Washington St:geo:-85.6663125,40.5209255
END:VEVENT
END:VCALENDAR