BEGIN:VCALENDAR
VERSION:2.0
PRODID:-//Marion High School Alumni Association - ECPv6.15.17.1//NONSGML v1.0//EN
CALSCALE:GREGORIAN
METHOD:PUBLISH
X-WR-CALNAME:Marion High School Alumni Association
X-ORIGINAL-URL:https://mhsalum.com
X-WR-CALDESC:Events for Marion High School Alumni Association
REFRESH-INTERVAL;VALUE=DURATION:PT1H
X-Robots-Tag:noindex
X-PUBLISHED-TTL:PT1H
BEGIN:VTIMEZONE
TZID:America/Indiana/Indianapolis
BEGIN:DAYLIGHT
TZOFFSETFROM:-0500
TZOFFSETTO:-0400
TZNAME:EDT
DTSTART:20140309T070000
END:DAYLIGHT
BEGIN:STANDARD
TZOFFSETFROM:-0400
TZOFFSETTO:-0500
TZNAME:EST
DTSTART:20141102T060000
END:STANDARD
BEGIN:DAYLIGHT
TZOFFSETFROM:-0500
TZOFFSETTO:-0400
TZNAME:EDT
DTSTART:20150308T070000
END:DAYLIGHT
BEGIN:STANDARD
TZOFFSETFROM:-0400
TZOFFSETTO:-0500
TZNAME:EST
DTSTART:20151101T060000
END:STANDARD
BEGIN:DAYLIGHT
TZOFFSETFROM:-0500
TZOFFSETTO:-0400
TZNAME:EDT
DTSTART:20160313T070000
END:DAYLIGHT
BEGIN:STANDARD
TZOFFSETFROM:-0400
TZOFFSETTO:-0500
TZNAME:EST
DTSTART:20161106T060000
END:STANDARD
END:VTIMEZONE
BEGIN:VEVENT
DTSTART;TZID=America/Indiana/Indianapolis:20150928T170000
DTEND;TZID=America/Indiana/Indianapolis:20150928T190000
DTSTAMP:20260424T153612
CREATED:20150924T130142Z
LAST-MODIFIED:20150924T130142Z
UID:18002-1443459600-1443466800@mhsalum.com
SUMMARY:Homecoming Week: MHS boys tennis hosts Lapel
DESCRIPTION:
URL:https://mhsalum.com/event/homecoming-week-mhs-boys-tennis-hosts-lapel/2015-09-28/
LOCATION:Bill Beekman Tennis Courts at Marion High School\, 750 w 26th st\, marion\, IN\, 46953\, United States
CATEGORIES:Athletics
ORGANIZER;CN="Marion Giants Athletics Department | Marion High School":MAILTO:athletics[at]mariongiantssports.com
GEO:40.540881;-85.667799
X-APPLE-STRUCTURED-LOCATION;VALUE=URI;X-ADDRESS=Bill Beekman Tennis Courts at Marion High School 750 w 26th st marion IN 46953 United States;X-APPLE-RADIUS=500;X-TITLE=750 w 26th st:geo:-85.667799,40.540881
END:VEVENT
BEGIN:VEVENT
DTSTART;TZID=America/Indiana/Indianapolis:20150928T170000
DTEND;TZID=America/Indiana/Indianapolis:20150928T200000
DTSTAMP:20260424T153612
CREATED:20150924T125844Z
LAST-MODIFIED:20150924T125844Z
UID:17998-1443459600-1443470400@mhsalum.com
SUMMARY:Homecoming Week: Dan's Fish Fry
DESCRIPTION:Dan’s Fish Fry\, 5 to 8 p.m. at the MHS Cafe (enter through Door 8\, on the north side of the school near the tennis courts). This is a fundraiser for the girls basketball team. Click here for more information\, including prices.
URL:https://mhsalum.com/event/homecoming-week-dans-fish-fry/2015-09-28/
LOCATION:MHS Cafe\, 750 W. 26th St.\, Marion\, IN\, 46953\, United States
CATEGORIES:Athletics,Fundraisers
GEO:40.540881;-85.667799
X-APPLE-STRUCTURED-LOCATION;VALUE=URI;X-ADDRESS=MHS Cafe 750 W. 26th St. Marion IN 46953 United States;X-APPLE-RADIUS=500;X-TITLE=750 W. 26th St.:geo:-85.667799,40.540881
END:VEVENT
BEGIN:VEVENT
DTSTART;TZID=America/Indiana/Indianapolis:20150928T180000
DTEND;TZID=America/Indiana/Indianapolis:20150928T200000
DTSTAMP:20260424T153612
CREATED:20150924T130400Z
LAST-MODIFIED:20150924T130521Z
UID:18003-1443463200-1443470400@mhsalum.com
SUMMARY:Homecoming Week: MHS girls soccer hosts Hamilton Southeastern
DESCRIPTION:Tickets: $5
URL:https://mhsalum.com/event/homecoming-week-mhs-girls-soccer-hosts-hamilton-southeastern/2015-09-28/
LOCATION:Dick Lootens Stadium at MHS\, 750 W. 26th St.\, Marion\, IN\, 46953\, United States
CATEGORIES:Athletics
ORGANIZER;CN="Marion Giants Athletics Department | Marion High School":MAILTO:athletics[at]mariongiantssports.com
GEO:40.540881;-85.667799
X-APPLE-STRUCTURED-LOCATION;VALUE=URI;X-ADDRESS=Dick Lootens Stadium at MHS 750 W. 26th St. Marion IN 46953 United States;X-APPLE-RADIUS=500;X-TITLE=750 W. 26th St.:geo:-85.667799,40.540881
END:VEVENT
BEGIN:VEVENT
DTSTART;TZID=America/Indiana/Indianapolis:20150929T180000
DTEND;TZID=America/Indiana/Indianapolis:20150929T200000
DTSTAMP:20260424T153612
CREATED:20150924T130706Z
LAST-MODIFIED:20150924T130706Z
UID:18006-1443549600-1443556800@mhsalum.com
SUMMARY:Homecoming Week: MHS volleyball hosts Tech
DESCRIPTION:Tickets: $5
URL:https://mhsalum.com/event/homecoming-week-mhs-volleyball-hosts-tech/2015-09-29/
LOCATION:Bill Green Arena at MHS\, 750 W. 26th St.\, Marion\, IN\, 46953\, United States
CATEGORIES:Athletics
ORGANIZER;CN="Marion Giants Athletics Department | Marion High School":MAILTO:athletics[at]mariongiantssports.com
GEO:40.540881;-85.667799
X-APPLE-STRUCTURED-LOCATION;VALUE=URI;X-ADDRESS=Bill Green Arena at MHS 750 W. 26th St. Marion IN 46953 United States;X-APPLE-RADIUS=500;X-TITLE=750 W. 26th St.:geo:-85.667799,40.540881
END:VEVENT
BEGIN:VEVENT
DTSTART;TZID=America/Indiana/Indianapolis:20150930T180000
DTEND;TZID=America/Indiana/Indianapolis:20150930T200000
DTSTAMP:20260424T153612
CREATED:20150924T130954Z
LAST-MODIFIED:20150924T130954Z
UID:18008-1443636000-1443643200@mhsalum.com
SUMMARY:Homecoming Week: MHS boys soccer hosts Fort Wayne South
DESCRIPTION:Tickets: $5
URL:https://mhsalum.com/event/homecoming-week-mhs-boys-soccer-hosts-fort-wayne-south/2015-09-30/
LOCATION:Dick Lootens Stadium at MHS\, 750 W. 26th St.\, Marion\, IN\, 46953\, United States
CATEGORIES:Athletics
ORGANIZER;CN="Marion Giants Athletics Department | Marion High School":MAILTO:athletics[at]mariongiantssports.com
GEO:40.540881;-85.667799
X-APPLE-STRUCTURED-LOCATION;VALUE=URI;X-ADDRESS=Dick Lootens Stadium at MHS 750 W. 26th St. Marion IN 46953 United States;X-APPLE-RADIUS=500;X-TITLE=750 W. 26th St.:geo:-85.667799,40.540881
END:VEVENT
END:VCALENDAR