BEGIN:VCALENDAR
VERSION:2.0
PRODID:-//Marion High School Alumni Association - ECPv6.15.17.1//NONSGML v1.0//EN
CALSCALE:GREGORIAN
METHOD:PUBLISH
X-ORIGINAL-URL:https://mhsalum.com
X-WR-CALDESC:Events for Marion High School Alumni Association
REFRESH-INTERVAL;VALUE=DURATION:PT1H
X-Robots-Tag:noindex
X-PUBLISHED-TTL:PT1H
BEGIN:VTIMEZONE
TZID:America/Indiana/Indianapolis
BEGIN:DAYLIGHT
TZOFFSETFROM:-0500
TZOFFSETTO:-0400
TZNAME:EDT
DTSTART:20140309T070000
END:DAYLIGHT
BEGIN:STANDARD
TZOFFSETFROM:-0400
TZOFFSETTO:-0500
TZNAME:EST
DTSTART:20141102T060000
END:STANDARD
BEGIN:DAYLIGHT
TZOFFSETFROM:-0500
TZOFFSETTO:-0400
TZNAME:EDT
DTSTART:20150308T070000
END:DAYLIGHT
BEGIN:STANDARD
TZOFFSETFROM:-0400
TZOFFSETTO:-0500
TZNAME:EST
DTSTART:20151101T060000
END:STANDARD
BEGIN:DAYLIGHT
TZOFFSETFROM:-0500
TZOFFSETTO:-0400
TZNAME:EDT
DTSTART:20160313T070000
END:DAYLIGHT
BEGIN:STANDARD
TZOFFSETFROM:-0400
TZOFFSETTO:-0500
TZNAME:EST
DTSTART:20161106T060000
END:STANDARD
END:VTIMEZONE
BEGIN:VEVENT
DTSTART;TZID=America/Indiana/Indianapolis:20151001T173000
DTEND;TZID=America/Indiana/Indianapolis:20151001T193000
DTSTAMP:20260424T135456
CREATED:20150924T131050Z
LAST-MODIFIED:20150924T131050Z
UID:18009-1443720600-1443727800@mhsalum.com
SUMMARY:Homecoming Week: MHS girls soccer hosts Mount Vernon
DESCRIPTION:Tickets: $5
URL:https://mhsalum.com/event/homecoming-week-mhs-girls-soccer-hosts-mount-vernon/2015-10-01/
LOCATION:Dick Lootens Stadium at MHS\, 750 W. 26th St.\, Marion\, IN\, 46953\, United States
CATEGORIES:Athletics
ORGANIZER;CN="Marion Giants Athletics Department | Marion High School":MAILTO:athletics[at]mariongiantssports.com
GEO:40.540881;-85.667799
X-APPLE-STRUCTURED-LOCATION;VALUE=URI;X-ADDRESS=Dick Lootens Stadium at MHS 750 W. 26th St. Marion IN 46953 United States;X-APPLE-RADIUS=500;X-TITLE=750 W. 26th St.:geo:-85.667799,40.540881
END:VEVENT
BEGIN:VEVENT
DTSTART;TZID=America/Indiana/Indianapolis:20151002T163000
DTEND;TZID=America/Indiana/Indianapolis:20151002T190000
DTSTAMP:20260424T135456
CREATED:20150924T131649Z
LAST-MODIFIED:20150924T131649Z
UID:18010-1443803400-1443812400@mhsalum.com
SUMMARY:Homecoming Week: MHS PTO Nelson's Chicken fundraiser
DESCRIPTION:Advanced purchase encouraged; limited number of meals may be available day-of. \nTWO pickup locations: \n\n4 to 6:30 p.m. at Tree of Life parking lot\n6 to 7 p.m. at MHS near the stadium.\n\nClick here for more information\, including prices and how to order in advance.
URL:https://mhsalum.com/event/homecoming-week-mhs-pto-nelsons-chicken-fundraiser/2015-10-02/
CATEGORIES:Fundraisers
END:VEVENT
BEGIN:VEVENT
DTSTART;TZID=America/Indiana/Indianapolis:20151002T170000
DTEND;TZID=America/Indiana/Indianapolis:20151002T190000
DTSTAMP:20260424T135456
CREATED:20150924T131952Z
LAST-MODIFIED:20150924T131952Z
UID:18012-1443805200-1443812400@mhsalum.com
SUMMARY:Homecoming Carnival
DESCRIPTION:The MHS Show Choir parents organization presents a carnival from 5 to 7 p.m. on the MHS lawn (on the north side of the school near the stadium)\, in conjunction with Homecoming festivities. \nCarnival tickets are 25 cents each for games\, dunk tank\, cotton candy\, and prizes. \nCome out and have some fun before the football game!
URL:https://mhsalum.com/event/homecoming-carnival/2015-10-02/
LOCATION:Marion High School\, 750 West 26th Street\, Marion\, IN\, 46953\, United States
CATEGORIES:Arts,Fundraisers
GEO:40.540881;-85.667799
X-APPLE-STRUCTURED-LOCATION;VALUE=URI;X-ADDRESS=Marion High School 750 West 26th Street Marion IN 46953 United States;X-APPLE-RADIUS=500;X-TITLE=750 West 26th Street:geo:-85.667799,40.540881
END:VEVENT
BEGIN:VEVENT
DTSTART;TZID=America/Indiana/Indianapolis:20151002T190000
DTEND;TZID=America/Indiana/Indianapolis:20151002T210000
DTSTAMP:20260424T135456
CREATED:20150924T132144Z
LAST-MODIFIED:20150924T134107Z
UID:18014-1443812400-1443819600@mhsalum.com
SUMMARY:Homecoming Week: Giants Fight Never Die umbrellas for sale
DESCRIPTION:Limited number of Giants Fight Never Die golf umbrellas will be available for purchase at the Homecoming football game for $22. Fundraiser for MHS soccer programs.
URL:https://mhsalum.com/event/giants-fight-never-die-umbrellas-for-sale/2015-10-02/
LOCATION:Dick Lootens Stadium at MHS\, 750 W. 26th St.\, Marion\, IN\, 46953\, United States
CATEGORIES:Athletics,Fundraisers
GEO:40.540881;-85.667799
X-APPLE-STRUCTURED-LOCATION;VALUE=URI;X-ADDRESS=Dick Lootens Stadium at MHS 750 W. 26th St. Marion IN 46953 United States;X-APPLE-RADIUS=500;X-TITLE=750 W. 26th St.:geo:-85.667799,40.540881
END:VEVENT
BEGIN:VEVENT
DTSTART;TZID=America/Indiana/Indianapolis:20151002T190000
DTEND;TZID=America/Indiana/Indianapolis:20151002T210000
DTSTAMP:20260424T135456
CREATED:20150924T132254Z
LAST-MODIFIED:20150924T133309Z
UID:18016-1443812400-1443819600@mhsalum.com
SUMMARY:Homecoming Week: MHS football hosts Muncie Central
DESCRIPTION:Tickets: $5 \nMHSAA will be on hand … look for the tent! Come have fun with us!
URL:https://mhsalum.com/event/homecoming-week-mhs-football-hosts-muncie-central/2015-10-02/
LOCATION:Dick Lootens Stadium at MHS\, 750 W. 26th St.\, Marion\, IN\, 46953\, United States
CATEGORIES:Athletics,Special Events
ORGANIZER;CN="Marion Giants Athletics Department | Marion High School":MAILTO:athletics[at]mariongiantssports.com
GEO:40.540881;-85.667799
X-APPLE-STRUCTURED-LOCATION;VALUE=URI;X-ADDRESS=Dick Lootens Stadium at MHS 750 W. 26th St. Marion IN 46953 United States;X-APPLE-RADIUS=500;X-TITLE=750 W. 26th St.:geo:-85.667799,40.540881
END:VEVENT
BEGIN:VEVENT
DTSTART;TZID=America/Indiana/Indianapolis:20151003T100000
DTEND;TZID=America/Indiana/Indianapolis:20151003T180000
DTSTAMP:20260424T135456
CREATED:20150924T133551Z
LAST-MODIFIED:20150924T133551Z
UID:18022-1443866400-1443895200@mhsalum.com
SUMMARY:Homecoming Week: Marching Giants mattress sale
DESCRIPTION:Get a great deal on a new mattress\, and support the growing MHS band program! 10 a.m. to 6 p.m. at Bill Green Arena. Click here for more information. Check out the Facebook page for some FAQs.
URL:https://mhsalum.com/event/homecoming-week-marching-giants-mattress-sale/2015-10-03/
LOCATION:Bill Green Arena at MHS\, 750 W. 26th St.\, Marion\, IN\, 46953\, United States
CATEGORIES:Arts,Fundraisers
GEO:40.540881;-85.667799
X-APPLE-STRUCTURED-LOCATION;VALUE=URI;X-ADDRESS=Bill Green Arena at MHS 750 W. 26th St. Marion IN 46953 United States;X-APPLE-RADIUS=500;X-TITLE=750 W. 26th St.:geo:-85.667799,40.540881
END:VEVENT
BEGIN:VEVENT
DTSTART;TZID=America/Indiana/Indianapolis:20151003T103000
DTEND;TZID=America/Indiana/Indianapolis:20151003T123000
DTSTAMP:20260424T135456
CREATED:20150924T133843Z
LAST-MODIFIED:20150924T133843Z
UID:18024-1443868200-1443875400@mhsalum.com
SUMMARY:Homecoming Week: NCC boys and girls cross country championship
DESCRIPTION:
URL:https://mhsalum.com/event/homecoming-week-ncc-boys-and-girls-cross-country-championship/2015-10-03/
LOCATION:IWU cross country course\, 4999 S. Harmon St.\, Marion\, IN\, 46953\, United States
CATEGORIES:Athletics
ORGANIZER;CN="Marion Giants Athletics Department | Marion High School":MAILTO:athletics[at]mariongiantssports.com
GEO:40.5092928;-85.6677212
X-APPLE-STRUCTURED-LOCATION;VALUE=URI;X-ADDRESS=IWU cross country course 4999 S. Harmon St. Marion IN 46953 United States;X-APPLE-RADIUS=500;X-TITLE=4999 S. Harmon St.:geo:-85.6677212,40.5092928
END:VEVENT
BEGIN:VEVENT
DTSTART;TZID=America/Indiana/Indianapolis:20151003T193000
DTEND;TZID=America/Indiana/Indianapolis:20151003T203000
DTSTAMP:20260424T135456
CREATED:20150924T134043Z
LAST-MODIFIED:20150924T134043Z
UID:18026-1443900600-1443904200@mhsalum.com
SUMMARY:Homecoming Week: MHS fall kickoff play "Selfie"
DESCRIPTION:One act\, one night\, one dollar. You don’t want to miss this! The MHS Speech and Drama Association presents the play “Selfie” at 7:30 p.m. at the Walton Performing Arts Center at MHS. Click here for more information.
URL:https://mhsalum.com/event/homecoming-week-mhs-fall-kickoff-play-selfie/2015-10-03/
LOCATION:F. Ritchie Walton Performing Arts Center at MHS\, 750 W. 26th St.\, Marion\, IN\, 46953\, United States
CATEGORIES:Arts,Entertainment,Special Events,Theater
GEO:40.540881;-85.667799
X-APPLE-STRUCTURED-LOCATION;VALUE=URI;X-ADDRESS=F. Ritchie Walton Performing Arts Center at MHS 750 W. 26th St. Marion IN 46953 United States;X-APPLE-RADIUS=500;X-TITLE=750 W. 26th St.:geo:-85.667799,40.540881
END:VEVENT
BEGIN:VEVENT
DTSTART;TZID=America/Indiana/Indianapolis:20151009T190000
DTEND;TZID=America/Indiana/Indianapolis:20151010T230000
DTSTAMP:20260424T135456
CREATED:20150810T181548Z
LAST-MODIFIED:20150901T163254Z
UID:16776-1444417200-1444518000@mhsalum.com
SUMMARY:MHS Band Reunion 2015
DESCRIPTION:All members of the MHS band during the Joe Guth years\, 1967 through 1973\, are invited to attend! \nHere’s a look at the weekend’s events: \nFRIDAY\, OCT. 9 \n\nMeet & Greet: 7 p.m.\, Meshingomesia Country Club\, 2225 N. Lagro Road\, Marion\n\nSATURDAY\, OCT. 10 \n\nCocktail hour: 6 p.m. at Meshingomesia Country Club. (Cash bar.)\nDinner: 7 p.m. at Meshingomesia Country Club. $25 per person; payment due by Sept. 15 (extended from Aug. 30); checks should be made payable to / sent to Bruce Baumbaugh\, 5267 W. Henderson Court\, Marion\, IN 46952. (Menu: Choice of herb-crusted chicken with parmesan cheese sauce or pretzel-crusted chicken with beer cheese; green beans with bacon; red potatoes; coffee\, tea\, water; cash bar.)\n\nComing in from out of town? \nA block of hotel rooms for the MHS Band Reunion 2015 has been reserved for Oct. 9 and 10 at: \n\nAmerica’s Best Value Inn & Suites\, 6138 Corridor Dr.\, Marion\, IN 46952. Call 765-664-5840 by Sept. 9 for these rates: King Standard\, $68.39 + tax; Double Queen Standard\, $74.09 + tax.\nComfort Suites\, 1345 N. Baldwin Ave.\, Marion\, IN 46952. Call 765-651-1006 or 765-651-0145 by Sept. 18 for this rate: $89 + tax.\n\nKeep up on the latest news: Join us on Facebook!   \n\n  \nReunion committee: Jena (Jones) Adrianson\, Lynelle (Grant) Aldridge\, Bruce Baumbaugh\, Marcia (Freeman) Newton\, Jane Gutierrez\, Connie (Turner) Strange
URL:https://mhsalum.com/event/mhs-band-reunion-2015/
LOCATION:Meshingomesia Golf & Social Club\, 2225 Lagro Road\, Marion\, IN\, 46952\, United States
CATEGORIES:Arts,Reunions,Special Events
GEO:40.5920819;-85.6607211
X-APPLE-STRUCTURED-LOCATION;VALUE=URI;X-ADDRESS=Meshingomesia Golf & Social Club 2225 Lagro Road Marion IN 46952 United States;X-APPLE-RADIUS=500;X-TITLE=2225 Lagro Road:geo:-85.6607211,40.5920819
END:VEVENT
BEGIN:VEVENT
DTSTART;TZID=America/Indiana/Indianapolis:20151016T180000
DTEND;TZID=America/Indiana/Indianapolis:20151018T115500
DTSTAMP:20260424T135456
CREATED:20150930T173126Z
LAST-MODIFIED:20150930T173459Z
UID:18038-1445018400-1445169300@mhsalum.com
SUMMARY:Class of 1970 - 45th reunion
DESCRIPTION:MHS Class of 1970’s 45-year reunion is coming up!  \nThe RSVP deadline has been extended to Monday\, Oct. 5. Click here to make your reservation now! \nOctober 16th: MHS Football Game and Tailgating at Dick Lootens Stadium at MHS. Our football team and class will be recognized.\n6:00 p.m. – Tailgating. Food will be available for purchase as an MHS fundraiser.\n7:00 p.m. – Football Game. Admission hosted by Joe Gabbert & Hank Koegel for classmates. Tickets for family / guests will be available for purchase ($5 each). \nOctober 17th: Dinner / Dance at Meshingomesia Country Club\n6:30 p.m. – Registration / Welcome Reception\n7:30 p.m. – Dinner / Program\nMeshingomesia Dress Code: no T-shirts/distressed jeans \nOctober 18th: Goodbye Brunch\n10 a.m. – Stay tuned for details \nMore information\, along with payment and contact details\, at this link. \n 
URL:https://mhsalum.com/event/18038/2015-10-16/
CATEGORIES:Entertainment,Reunions,Special Events
ORGANIZER;CN="Marion High School Class of 1970":MAILTO:mhs1970classreuion[at]gmail.com
END:VEVENT
END:VCALENDAR