BEGIN:VCALENDAR
VERSION:2.0
PRODID:-//Marion High School Alumni Association - ECPv6.15.17.1//NONSGML v1.0//EN
CALSCALE:GREGORIAN
METHOD:PUBLISH
X-WR-CALNAME:Marion High School Alumni Association
X-ORIGINAL-URL:https://mhsalum.com
X-WR-CALDESC:Events for Marion High School Alumni Association
REFRESH-INTERVAL;VALUE=DURATION:PT1H
X-Robots-Tag:noindex
X-PUBLISHED-TTL:PT1H
BEGIN:VTIMEZONE
TZID:America/Indiana/Indianapolis
BEGIN:DAYLIGHT
TZOFFSETFROM:-0500
TZOFFSETTO:-0400
TZNAME:EDT
DTSTART:20150308T070000
END:DAYLIGHT
BEGIN:STANDARD
TZOFFSETFROM:-0400
TZOFFSETTO:-0500
TZNAME:EST
DTSTART:20151101T060000
END:STANDARD
BEGIN:DAYLIGHT
TZOFFSETFROM:-0500
TZOFFSETTO:-0400
TZNAME:EDT
DTSTART:20160313T070000
END:DAYLIGHT
BEGIN:STANDARD
TZOFFSETFROM:-0400
TZOFFSETTO:-0500
TZNAME:EST
DTSTART:20161106T060000
END:STANDARD
BEGIN:DAYLIGHT
TZOFFSETFROM:-0500
TZOFFSETTO:-0400
TZNAME:EDT
DTSTART:20170312T070000
END:DAYLIGHT
BEGIN:STANDARD
TZOFFSETFROM:-0400
TZOFFSETTO:-0500
TZNAME:EST
DTSTART:20171105T060000
END:STANDARD
END:VTIMEZONE
BEGIN:VEVENT
DTSTART;VALUE=DATE:20160301
DTEND;VALUE=DATE:20160302
DTSTAMP:20260424T054337
CREATED:20160201T172359Z
LAST-MODIFIED:20160201T173945Z
UID:18538-1456790400-1456876799@mhsalum.com
SUMMARY:IHSAA boys basketball Class 3A sectionals
DESCRIPTION:March Madness starts right here in Marion! \nMarion High School will host the Indiana High School Athletic Association Class 3A boys basketball sectional at Bill Green Arena the first week of March. \nGames will be played on March 1\, 2\, 4\, and 5th. The schedule and bracket will be announced. \nTickets are $6 per session\, or $10 for all. \n>> Keep up with the latest MHS athletics news at MarionGiantsSports.com.
URL:https://mhsalum.com/event/ihsaa-boys-basketball-class-3a-sectionals/2016-03-01/
LOCATION:Bill Green Arena at MHS\, 750 W. 26th St.\, Marion\, IN\, 46953\, United States
CATEGORIES:Athletics
ORGANIZER;CN="Marion Giants Athletics Department | Marion High School":MAILTO:athletics[at]mariongiantssports.com
GEO:40.540881;-85.667799
X-APPLE-STRUCTURED-LOCATION;VALUE=URI;X-ADDRESS=Bill Green Arena at MHS 750 W. 26th St. Marion IN 46953 United States;X-APPLE-RADIUS=500;X-TITLE=750 W. 26th St.:geo:-85.667799,40.540881
END:VEVENT
BEGIN:VEVENT
DTSTART;TZID=America/Indiana/Indianapolis:20160303T103000
DTEND;TZID=America/Indiana/Indianapolis:20160303T143000
DTSTAMP:20260424T054337
CREATED:20160104T204632Z
LAST-MODIFIED:20160104T204632Z
UID:18436-1457001000-1457015400@mhsalum.com
SUMMARY:32nd Annual Marion High School Florida Reunion
DESCRIPTION:Click here to view the full-size flier / registration form\, which also includes the tentative agenda.
URL:https://mhsalum.com/event/32nd-annual-marion-high-school-florida-reunion/
LOCATION:Duff’s Original Buffet\, 6010 14th St W\, Bradenton\, FL\, 34207\, United States
CATEGORIES:Reunions,Special Events
ATTACH;FMTTYPE=image/png:https://mhsalum.com/wp-content/uploads/2016/01/MHSAA_2016_01_All-ClassReunion_Florida_Announcement_THUMB.png
ORGANIZER;CN="Dr. P.J. Fisher":MAILTO:pjfish71[at]aol.com
GEO:27.4344856;-82.5760039
X-APPLE-STRUCTURED-LOCATION;VALUE=URI;X-ADDRESS=Duff’s Original Buffet 6010 14th St W Bradenton FL 34207 United States;X-APPLE-RADIUS=500;X-TITLE=6010 14th St W:geo:-82.5760039,27.4344856
END:VEVENT
BEGIN:VEVENT
DTSTART;VALUE=DATE:20160312
DTEND;VALUE=DATE:20160313
DTSTAMP:20260424T054337
CREATED:20160201T172704Z
LAST-MODIFIED:20160201T172704Z
UID:18539-1457740800-1457827199@mhsalum.com
SUMMARY:IHSAA boys basketball Class 3A regional
DESCRIPTION:March Madness continues in Marion! \nMarion High School will host the Indiana High School Athletic Association Class 3A boys basketball regional at Bill Green Arena on March 12. The schedule and bracket will be announced. \nTickets are $7 per session\, or $10 for all. \n>> Keep up with the latest MHS athletics news at MarionGiantsSports.com.
URL:https://mhsalum.com/event/ihsaa-boys-basketball-class-3a-regional/
LOCATION:Bill Green Arena at MHS\, 750 W. 26th St.\, Marion\, IN\, 46953\, United States
CATEGORIES:Athletics
ORGANIZER;CN="Marion Giants Athletics Department | Marion High School":MAILTO:athletics[at]mariongiantssports.com
GEO:40.540881;-85.667799
X-APPLE-STRUCTURED-LOCATION;VALUE=URI;X-ADDRESS=Bill Green Arena at MHS 750 W. 26th St. Marion IN 46953 United States;X-APPLE-RADIUS=500;X-TITLE=750 W. 26th St.:geo:-85.667799,40.540881
END:VEVENT
BEGIN:VEVENT
DTSTART;TZID=America/Indiana/Indianapolis:20160312T190000
DTEND;TZID=America/Indiana/Indianapolis:20160312T210000
DTSTAMP:20260424T054337
CREATED:20151014T173518Z
LAST-MODIFIED:20151014T173518Z
UID:18108-1457809200-1457816400@mhsalum.com
SUMMARY:MHS/McCulloch Choral Festival
DESCRIPTION:Come out and enjoy the music from our talented\, award-winning young musicians from Marion High School and McCulloch Junior High!
URL:https://mhsalum.com/event/mhsmcculloch-choral-festival/
LOCATION:F. Ritchie Walton Performing Arts Center at MHS\, 750 W. 26th St.\, Marion\, IN\, 46953\, United States
CATEGORIES:Arts,Entertainment,Special Events
GEO:40.540881;-85.667799
X-APPLE-STRUCTURED-LOCATION;VALUE=URI;X-ADDRESS=F. Ritchie Walton Performing Arts Center at MHS 750 W. 26th St. Marion IN 46953 United States;X-APPLE-RADIUS=500;X-TITLE=750 W. 26th St.:geo:-85.667799,40.540881
END:VEVENT
END:VCALENDAR