BEGIN:VCALENDAR
VERSION:2.0
PRODID:-//Marion High School Alumni Association - ECPv6.15.17.1//NONSGML v1.0//EN
CALSCALE:GREGORIAN
METHOD:PUBLISH
X-ORIGINAL-URL:https://mhsalum.com
X-WR-CALDESC:Events for Marion High School Alumni Association
REFRESH-INTERVAL;VALUE=DURATION:PT1H
X-Robots-Tag:noindex
X-PUBLISHED-TTL:PT1H
BEGIN:VTIMEZONE
TZID:America/Indiana/Indianapolis
BEGIN:DAYLIGHT
TZOFFSETFROM:-0500
TZOFFSETTO:-0400
TZNAME:EDT
DTSTART:20240310T070000
END:DAYLIGHT
BEGIN:STANDARD
TZOFFSETFROM:-0400
TZOFFSETTO:-0500
TZNAME:EST
DTSTART:20241103T060000
END:STANDARD
BEGIN:DAYLIGHT
TZOFFSETFROM:-0500
TZOFFSETTO:-0400
TZNAME:EDT
DTSTART:20250309T070000
END:DAYLIGHT
BEGIN:STANDARD
TZOFFSETFROM:-0400
TZOFFSETTO:-0500
TZNAME:EST
DTSTART:20251102T060000
END:STANDARD
BEGIN:DAYLIGHT
TZOFFSETFROM:-0500
TZOFFSETTO:-0400
TZNAME:EDT
DTSTART:20260308T070000
END:DAYLIGHT
BEGIN:STANDARD
TZOFFSETFROM:-0400
TZOFFSETTO:-0500
TZNAME:EST
DTSTART:20261101T060000
END:STANDARD
END:VTIMEZONE
BEGIN:VEVENT
DTSTART;TZID=America/Indiana/Indianapolis:20250401T090000
DTEND;TZID=America/Indiana/Indianapolis:20250401T110000
DTSTAMP:20260425T134415
CREATED:20250313T174626Z
LAST-MODIFIED:20250313T175024Z
UID:27694-1743498000-1743505200@mhsalum.com
SUMMARY:Roosevelt School alumni
DESCRIPTION:Roosevelt School Alumni will meet for breakfast at 9 a.m. on Tuesday\, April 1\, at Georgie’s Restaurant\, 1030 N. Baldwin Ave.\, Marion. Classmates can send their RSVP to Tim A. Wentz at tawentz.1@gmail.com\, or on the Roosevelt Elementary Alumni – Marion\, Indiana\, Facebook group (link) by March 26.
URL:https://mhsalum.com/event/roosevelt-school-alumni/
LOCATION:Georgie’s Restaurant\, 1030 N. Baldwin Ave.\, Marion\, 46952\, United States
CATEGORIES:Reunions
ORGANIZER;CN="Tim Wentz":MAILTO:tawentz.1@gmail.com
END:VEVENT
BEGIN:VEVENT
DTSTART;TZID=America/Indiana/Indianapolis:20250409T120000
DTEND;TZID=America/Indiana/Indianapolis:20250409T140000
DTSTAMP:20260425T134415
CREATED:20250313T174930Z
LAST-MODIFIED:20250313T174930Z
UID:27696-1744200000-1744207200@mhsalum.com
SUMMARY:MHS Class of 1973 70th birthday party
DESCRIPTION:The Marion High School class of 1973 will have a 70th birthday party at noon on Wednesday\, April 9 at Buffalo Wild Wings\, 1129 N. Baldwin Ave.\, Marion. RSVPs are suggested but not needed as there is room for 40 people. Please contact Tim A. Wentz at tawentz.1@gmail.com\, FB\, or phone at 765- 603-8979
URL:https://mhsalum.com/event/mhs-class-of-1973-70th-birthday-party/
LOCATION:Buffalo Wild Wings\, 1129 N. Baldwin Ave.\, Marion\, 46952\, United States
CATEGORIES:Reunions
END:VEVENT
BEGIN:VEVENT
DTSTART;TZID=America/Indiana/Indianapolis:20250428T080000
DTEND;TZID=America/Indiana/Indianapolis:20250428T170000
DTSTAMP:20260425T134415
CREATED:20250428T120859Z
LAST-MODIFIED:20250428T120859Z
UID:27810-1745827200-1745859600@mhsalum.com
SUMMARY:Class of 1993 50th birthday party
DESCRIPTION:Marion High School Class of 1993 is celebrating their 50th birthday! \nJoin us for our Back to the 90s Party from 7 to 11 p.m. June 21 at the AMVETS\, 705 E. 37th St. We’ll have food\, music\, and fun. Please dress in ’90s attire! \nAlumni\, family\, and friends are welcome. Tickets are $20 per person. Pay by Venmo or Zelle.  \nEmail cheventparty@gmail.com with questions.
URL:https://mhsalum.com/event/class-of-1993-50th-birthday-party/
LOCATION:AMVETS\, 705 E. 37th St.\, Marion\, 46953\, United States
CATEGORIES:Reunions
END:VEVENT
END:VCALENDAR