BEGIN:VCALENDAR
VERSION:2.0
PRODID:-//Marion High School Alumni Association - ECPv6.15.17.1//NONSGML v1.0//EN
CALSCALE:GREGORIAN
METHOD:PUBLISH
X-WR-CALNAME:Marion High School Alumni Association
X-ORIGINAL-URL:https://mhsalum.com
X-WR-CALDESC:Events for Marion High School Alumni Association
REFRESH-INTERVAL;VALUE=DURATION:PT1H
X-Robots-Tag:noindex
X-PUBLISHED-TTL:PT1H
BEGIN:VTIMEZONE
TZID:America/Indiana/Indianapolis
BEGIN:DAYLIGHT
TZOFFSETFROM:-0500
TZOFFSETTO:-0400
TZNAME:EDT
DTSTART:20240310T070000
END:DAYLIGHT
BEGIN:STANDARD
TZOFFSETFROM:-0400
TZOFFSETTO:-0500
TZNAME:EST
DTSTART:20241103T060000
END:STANDARD
BEGIN:DAYLIGHT
TZOFFSETFROM:-0500
TZOFFSETTO:-0400
TZNAME:EDT
DTSTART:20250309T070000
END:DAYLIGHT
BEGIN:STANDARD
TZOFFSETFROM:-0400
TZOFFSETTO:-0500
TZNAME:EST
DTSTART:20251102T060000
END:STANDARD
BEGIN:DAYLIGHT
TZOFFSETFROM:-0500
TZOFFSETTO:-0400
TZNAME:EDT
DTSTART:20260308T070000
END:DAYLIGHT
BEGIN:STANDARD
TZOFFSETFROM:-0400
TZOFFSETTO:-0500
TZNAME:EST
DTSTART:20261101T060000
END:STANDARD
END:VTIMEZONE
BEGIN:VEVENT
DTSTART;VALUE=DATE:20250815
DTEND;VALUE=DATE:20250817
DTSTAMP:20260425T202029
CREATED:20250409T204827Z
LAST-MODIFIED:20250522T142445Z
UID:27730-1755216000-1755388799@mhsalum.com
SUMMARY:MHS Class of 1975 50th reunion
DESCRIPTION:Join us for the ultimate class reunion on Aug. 15 and 16\, 2025! Renew friendships\, rekindle memories. \nIf you have not yet done so\, please fill out our new Contact Information Form. \nFriday\, Aug. 15 \n\n7 to 11 p.m. gathering at Tha Taste Bar and Grill\, 3304 S. Washington St.\, where will have a DJ\, line dancing\, and fun on the outdoor patio too. Cost is $10 plus cost of any food/drink you choose to purchase. \n\nSaturday\, Aug. 16 \n\nmorning: golf at the Elks\, 1100 E. Bond Ave.\, $35\n6 p.m. reunion at the Elks\, $50; cash bar (cash or card); DJ 7 to 11 p.m.\n\nRegistration and payment required in advance for all events. Click here! \nT-shirts are available for purchase for $15; order them at the registration link above. 
URL:https://mhsalum.com/event/mhs-class-of-1975-50th-reunion/
CATEGORIES:Reunions
ORGANIZER;CN="Class of 1975":MAILTO:mariongiants1975@gmail.com
END:VEVENT
BEGIN:VEVENT
DTSTART;VALUE=DATE:20250816
DTEND;VALUE=DATE:20250817
DTSTAMP:20260425T202029
CREATED:20250418T185731Z
LAST-MODIFIED:20250418T185731Z
UID:27737-1755302400-1755388799@mhsalum.com
SUMMARY:Class of 1980 45th reunion
DESCRIPTION:The Marion High School Class of 1980 has set their 45th reunion for Aug. 16\, 2025.  \nJoin us at the Garden House and Pavilion at Matter Park in Marion. More details to come. \nRegister by Aug. 1 to get a discount: $20 per person\, or $35 for a couple \n(After Aug. 1\, registration cost will be $30 per person\, and no couples discount.)  \nTo register\, send your payment by mail or online: \n\nMail to:\nEric Leon Bradley / MHS Class of ’80\nP.O. Box 51\nMarion\, IN 46952\nor pay by PayPal: Marion.In.Class.of.80@gmail.com
URL:https://mhsalum.com/event/class-of-1980-45th-reunion/
CATEGORIES:Reunions
ORGANIZER;CN="Class of 1980":MAILTO:Marion.In.Class.of.80@gmail.com
END:VEVENT
END:VCALENDAR