BEGIN:VCALENDAR
VERSION:2.0
PRODID:-//Marion High School Alumni Association - ECPv6.15.17.1//NONSGML v1.0//EN
CALSCALE:GREGORIAN
METHOD:PUBLISH
X-ORIGINAL-URL:https://mhsalum.com
X-WR-CALDESC:Events for Marion High School Alumni Association
REFRESH-INTERVAL;VALUE=DURATION:PT1H
X-Robots-Tag:noindex
X-PUBLISHED-TTL:PT1H
BEGIN:VTIMEZONE
TZID:America/Indiana/Indianapolis
BEGIN:DAYLIGHT
TZOFFSETFROM:-0500
TZOFFSETTO:-0400
TZNAME:EDT
DTSTART:20240310T070000
END:DAYLIGHT
BEGIN:STANDARD
TZOFFSETFROM:-0400
TZOFFSETTO:-0500
TZNAME:EST
DTSTART:20241103T060000
END:STANDARD
BEGIN:DAYLIGHT
TZOFFSETFROM:-0500
TZOFFSETTO:-0400
TZNAME:EDT
DTSTART:20250309T070000
END:DAYLIGHT
BEGIN:STANDARD
TZOFFSETFROM:-0400
TZOFFSETTO:-0500
TZNAME:EST
DTSTART:20251102T060000
END:STANDARD
BEGIN:DAYLIGHT
TZOFFSETFROM:-0500
TZOFFSETTO:-0400
TZNAME:EDT
DTSTART:20260308T070000
END:DAYLIGHT
BEGIN:STANDARD
TZOFFSETFROM:-0400
TZOFFSETTO:-0500
TZNAME:EST
DTSTART:20261101T060000
END:STANDARD
END:VTIMEZONE
BEGIN:VEVENT
DTSTART;VALUE=DATE:20250719
DTEND;VALUE=DATE:20250720
DTSTAMP:20260419T113725
CREATED:20250401T212829Z
LAST-MODIFIED:20250401T212829Z
UID:27716-1752883200-1752969599@mhsalum.com
SUMMARY:MHS Class of 1995 30th reunion
DESCRIPTION:The Marion High School Class of 1995 will have their 30th reunion on July 19\, 2025. \nRSVPs are due by July 12: Please fill out this form to attend. \nAll questions can be directed to MarionGiants1995@gmail.com.
URL:https://mhsalum.com/event/mhs-class-of-1995-30th-reunion/
CATEGORIES:Reunions
ORGANIZER;CN="Class of 1995":MAILTO:MarionGiants1995@gmail.com
END:VEVENT
END:VCALENDAR