BEGIN:VCALENDAR
VERSION:2.0
PRODID:-//Marion High School Alumni Association - ECPv6.15.17.1//NONSGML v1.0//EN
CALSCALE:GREGORIAN
METHOD:PUBLISH
X-WR-CALNAME:Marion High School Alumni Association
X-ORIGINAL-URL:https://mhsalum.com
X-WR-CALDESC:Events for Marion High School Alumni Association
REFRESH-INTERVAL;VALUE=DURATION:PT1H
X-Robots-Tag:noindex
X-PUBLISHED-TTL:PT1H
BEGIN:VTIMEZONE
TZID:America/Indiana/Indianapolis
BEGIN:DAYLIGHT
TZOFFSETFROM:-0500
TZOFFSETTO:-0400
TZNAME:EDT
DTSTART:20130310T070000
END:DAYLIGHT
BEGIN:STANDARD
TZOFFSETFROM:-0400
TZOFFSETTO:-0500
TZNAME:EST
DTSTART:20131103T060000
END:STANDARD
BEGIN:DAYLIGHT
TZOFFSETFROM:-0500
TZOFFSETTO:-0400
TZNAME:EDT
DTSTART:20140309T070000
END:DAYLIGHT
BEGIN:STANDARD
TZOFFSETFROM:-0400
TZOFFSETTO:-0500
TZNAME:EST
DTSTART:20141102T060000
END:STANDARD
BEGIN:DAYLIGHT
TZOFFSETFROM:-0500
TZOFFSETTO:-0400
TZNAME:EDT
DTSTART:20150308T070000
END:DAYLIGHT
BEGIN:STANDARD
TZOFFSETFROM:-0400
TZOFFSETTO:-0500
TZNAME:EST
DTSTART:20151101T060000
END:STANDARD
BEGIN:DAYLIGHT
TZOFFSETFROM:-0500
TZOFFSETTO:-0400
TZNAME:EDT
DTSTART:20160313T070000
END:DAYLIGHT
BEGIN:STANDARD
TZOFFSETFROM:-0400
TZOFFSETTO:-0500
TZNAME:EST
DTSTART:20161106T060000
END:STANDARD
END:VTIMEZONE
BEGIN:VEVENT
DTSTART;TZID=America/Indiana/Indianapolis:20150501T080000
DTEND;TZID=America/Indiana/Indianapolis:20150502T130000
DTSTAMP:20260421T091744
CREATED:20150409T172200Z
LAST-MODIFIED:20150409T172200Z
UID:12550-1430467200-1430571600@mhsalum.com
SUMMARY:MCS All-City Art Show
DESCRIPTION:Where can you view spectacular art\, support young artists\, and even try your hand at various art techniques? At Marion Community Schools’ upcoming All-City Art Show! \nYou don’t need to travel far to be inspired this spring. At the All-City Art Show\, set for 8 a.m. to 8 p.m. Friday\, May 1\, and 9 a.m. to 1 p.m. Saturday\, May 2\, at Marion High School’s F. Ritchie Walton Performing Arts Center\, creative works from students of all ages will be on display\, and visitors will have the chance to participate in several interactive art activities. (Student art awards will be presented at 5:30 p.m. Friday.) \n>> Click here to learn more!
URL:https://mhsalum.com/event/mcs-all-city-art-show/
LOCATION:F. Ritchie Walton Performing Arts Center at MHS\, 750 W. 26th St.\, Marion\, IN\, 46953\, United States
CATEGORIES:Arts,Entertainment,Special Events
GEO:40.540881;-85.667799
X-APPLE-STRUCTURED-LOCATION;VALUE=URI;X-ADDRESS=F. Ritchie Walton Performing Arts Center at MHS 750 W. 26th St. Marion IN 46953 United States;X-APPLE-RADIUS=500;X-TITLE=750 W. 26th St.:geo:-85.667799,40.540881
END:VEVENT
BEGIN:VEVENT
DTSTART;TZID=America/Indiana/Indianapolis:20150410T193000
DTEND;TZID=America/Indiana/Indianapolis:20150410T220000
DTSTAMP:20260421T091744
CREATED:20150409T134701Z
LAST-MODIFIED:20150409T134701Z
UID:12543-1428694200-1428703200@mhsalum.com
SUMMARY:MHS spring play: Neil Simon's "Rumors"
DESCRIPTION:The MHS Drama Department brings Neil Simon’s farce “Rumors” back to the stage. Come have some fun with us! \nShow times are at 7:30 p.m. on Friday and Saturday at the MHS Walton Performing Arts Center. \nTickets are $5 for adults\, $3 for students.
URL:https://mhsalum.com/event/mhs-spring-play-neil-simons-rumors/2015-04-10/
LOCATION:F. Ritchie Walton Performing Arts Center at MHS\, 750 W. 26th St.\, Marion\, IN\, 46953\, United States
CATEGORIES:Arts,Entertainment,Special Events,Theater
GEO:40.540881;-85.667799
X-APPLE-STRUCTURED-LOCATION;VALUE=URI;X-ADDRESS=F. Ritchie Walton Performing Arts Center at MHS 750 W. 26th St. Marion IN 46953 United States;X-APPLE-RADIUS=500;X-TITLE=750 W. 26th St.:geo:-85.667799,40.540881
END:VEVENT
BEGIN:VEVENT
DTSTART;TZID=America/Indiana/Indianapolis:20150228T190000
DTEND;TZID=America/Indiana/Indianapolis:20150228T210000
DTSTAMP:20260421T091744
CREATED:20150121T211810Z
LAST-MODIFIED:20150121T211810Z
UID:4742-1425150000-1425157200@mhsalum.com
SUMMARY:MHS Black History Club presents: Ain't Nothing But a Thang\, Part 2
DESCRIPTION:Annual play presented by the Black History Club. Tickets are $6.
URL:https://mhsalum.com/event/mhs-black-history-club-presents-aint-nothing-thang-part-2/
LOCATION:F. Ritchie Walton Performing Arts Center at MHS\, 750 W. 26th St.\, Marion\, IN\, 46953\, United States
CATEGORIES:Arts,Entertainment,Special Events,Theater
GEO:40.540881;-85.667799
X-APPLE-STRUCTURED-LOCATION;VALUE=URI;X-ADDRESS=F. Ritchie Walton Performing Arts Center at MHS 750 W. 26th St. Marion IN 46953 United States;X-APPLE-RADIUS=500;X-TITLE=750 W. 26th St.:geo:-85.667799,40.540881
END:VEVENT
BEGIN:VEVENT
DTSTART;TZID=America/Indiana/Indianapolis:20150215T150000
DTEND;TZID=America/Indiana/Indianapolis:20150215T163000
DTSTAMP:20260421T091744
CREATED:20150211T173345Z
LAST-MODIFIED:20150211T174745Z
UID:6724-1424012400-1424017800@mhsalum.com
SUMMARY:College Athletics Recruiting Seminar @ MHS
DESCRIPTION:Have you ever wondered: \n~ How do I get noticed by colleges? \n~ Are showcases a good investment? \n~ How do I get a college scholarship? \n~ How do I know if a college really wants me? \n~ When do I need to start looking at colleges? \n~ Should I pay money to put my recruiting profile online? \n~ What kind of grades do I need in order to play in college? \nIf so\, then this free college recruiting seminar is for you! \nThe seminar is hosted by the athletic department at MHS is open to the public. All Grant County athletes\, parents\, and coaches are encouraged to attend. \nA panel of college student-athletes and coaches will be on hand to answer questions and talk about the recruiting and scholarship process\, and the seminar will be facilitated by Marion Community Schools Director of Athletics Jamy Bechler\, who spent nearly 20 years as a college basketball coach. \nYou can find more info at MarionGiantsSports.com!
URL:https://mhsalum.com/event/college-athletics-recruiting-seminar/
LOCATION:F. Ritchie Walton Performing Arts Center at MHS\, 750 W. 26th St.\, Marion\, IN\, 46953\, United States
CATEGORIES:Athletics,Special Events
ATTACH;FMTTYPE=image/png:https://mhsalum.com/wp-content/uploads/2015/02/MHS_2015_02_CollegeRecruitingSeminarFlier.png
ORGANIZER;CN="Marion Giants Athletics Department | Marion High School":MAILTO:athletics[at]mariongiantssports.com
GEO:40.540881;-85.667799
X-APPLE-STRUCTURED-LOCATION;VALUE=URI;X-ADDRESS=F. Ritchie Walton Performing Arts Center at MHS 750 W. 26th St. Marion IN 46953 United States;X-APPLE-RADIUS=500;X-TITLE=750 W. 26th St.:geo:-85.667799,40.540881
END:VEVENT
BEGIN:VEVENT
DTSTART;TZID=America/Indiana/Indianapolis:20150123T193000
DTEND;TZID=America/Indiana/Indianapolis:20150123T213000
DTSTAMP:20260421T091744
CREATED:20150121T182048Z
LAST-MODIFIED:20150121T192741Z
UID:4714-1422041400-1422048600@mhsalum.com
SUMMARY:MHS Drama and Choral Departments present "Shrek The Musical"
DESCRIPTION:The Marion High School Drama Club and Music Department will present the popular show at 7:30 p.m. Friday and Saturday\, Jan. 23 and 24\, 2015. Tickets are $8 for adults\, $5 for students. You can purchase your tickets in advance at the MHS main office\, open 7:30 a.m. to 4:30 p.m. Monday through Friday\, or at the Walton Center Box Office on show nights. \n  \n>> Interested in helping provide production costs for MHS Drama Department? Click here!
URL:https://mhsalum.com/event/mhs-drama-choral-departments-present-shrek-musical/2015-01-23/
LOCATION:F. Ritchie Walton Performing Arts Center at MHS\, 750 W. 26th St.\, Marion\, IN\, 46953\, United States
CATEGORIES:Arts,Entertainment,Special Events,Theater
GEO:40.540881;-85.667799
X-APPLE-STRUCTURED-LOCATION;VALUE=URI;X-ADDRESS=F. Ritchie Walton Performing Arts Center at MHS 750 W. 26th St. Marion IN 46953 United States;X-APPLE-RADIUS=500;X-TITLE=750 W. 26th St.:geo:-85.667799,40.540881
END:VEVENT
BEGIN:VEVENT
DTSTART;TZID=America/Indiana/Indianapolis:20141214T143000
DTEND;TZID=America/Indiana/Indianapolis:20141214T170000
DTSTAMP:20260421T091744
CREATED:20141204T205910Z
LAST-MODIFIED:20141204T205910Z
UID:869-1418567400-1418576400@mhsalum.com
SUMMARY:MHS Choral Department's Holiday Extravaganza
DESCRIPTION:
URL:https://mhsalum.com/event/mhs-choral-departments-holiday-extravaganza/
LOCATION:F. Ritchie Walton Performing Arts Center at MHS\, 750 W. 26th St.\, Marion\, IN\, 46953\, United States
CATEGORIES:Special Events
GEO:40.540881;-85.667799
X-APPLE-STRUCTURED-LOCATION;VALUE=URI;X-ADDRESS=F. Ritchie Walton Performing Arts Center at MHS 750 W. 26th St. Marion IN 46953 United States;X-APPLE-RADIUS=500;X-TITLE=750 W. 26th St.:geo:-85.667799,40.540881
END:VEVENT
END:VCALENDAR