BEGIN:VCALENDAR
VERSION:2.0
PRODID:-//Marion High School Alumni Association - ECPv6.15.17.1//NONSGML v1.0//EN
CALSCALE:GREGORIAN
METHOD:PUBLISH
X-ORIGINAL-URL:https://mhsalum.com
X-WR-CALDESC:Events for Marion High School Alumni Association
REFRESH-INTERVAL;VALUE=DURATION:PT1H
X-Robots-Tag:noindex
X-PUBLISHED-TTL:PT1H
BEGIN:VTIMEZONE
TZID:America/Indiana/Indianapolis
BEGIN:DAYLIGHT
TZOFFSETFROM:-0500
TZOFFSETTO:-0400
TZNAME:EDT
DTSTART:20140309T070000
END:DAYLIGHT
BEGIN:STANDARD
TZOFFSETFROM:-0400
TZOFFSETTO:-0500
TZNAME:EST
DTSTART:20141102T060000
END:STANDARD
BEGIN:DAYLIGHT
TZOFFSETFROM:-0500
TZOFFSETTO:-0400
TZNAME:EDT
DTSTART:20150308T070000
END:DAYLIGHT
BEGIN:STANDARD
TZOFFSETFROM:-0400
TZOFFSETTO:-0500
TZNAME:EST
DTSTART:20151101T060000
END:STANDARD
BEGIN:DAYLIGHT
TZOFFSETFROM:-0500
TZOFFSETTO:-0400
TZNAME:EDT
DTSTART:20160313T070000
END:DAYLIGHT
BEGIN:STANDARD
TZOFFSETFROM:-0400
TZOFFSETTO:-0500
TZNAME:EST
DTSTART:20161106T060000
END:STANDARD
BEGIN:DAYLIGHT
TZOFFSETFROM:-0500
TZOFFSETTO:-0400
TZNAME:EDT
DTSTART:20170312T070000
END:DAYLIGHT
BEGIN:STANDARD
TZOFFSETFROM:-0400
TZOFFSETTO:-0500
TZNAME:EST
DTSTART:20171105T060000
END:STANDARD
BEGIN:DAYLIGHT
TZOFFSETFROM:-0500
TZOFFSETTO:-0400
TZNAME:EDT
DTSTART:20180311T070000
END:DAYLIGHT
BEGIN:STANDARD
TZOFFSETFROM:-0400
TZOFFSETTO:-0500
TZNAME:EST
DTSTART:20181104T060000
END:STANDARD
END:VTIMEZONE
BEGIN:VEVENT
DTSTART;TZID=America/Indiana/Indianapolis:20171205T180000
DTEND;TZID=America/Indiana/Indianapolis:20171205T200000
DTSTAMP:20260421T154703
CREATED:20171116T161313Z
LAST-MODIFIED:20171116T161615Z
UID:20028-1512496800-1512504000@mhsalum.com
SUMMARY:MHSAA 2017 Annual Meeting
DESCRIPTION:Come join us for a night of GIANT fellowship with your fellow alumni! \nTuesday\, December 5th @ Gunner’s Grill at Meshingomesia Golf and Social Club! Your $20 ticket includes hors d’oeuvres\, and cocktails will be available. \n>> Click here to buy your ticket online!  \n \n(NOTE: If you don’t want to pay online\, you can pay at the door\, but you must reserve your space ahead of time by emailing info@mhsalum.com.) \n>> RESERVATIONS ARE DUE by Thursday\, Nov. 30!
URL:https://mhsalum.com/event/mhsaa-2017-annual-meeting/
LOCATION:Meshingomesia Golf and Social Club\, 2225 Lagro Road\, Marion\, IN\, 46952\, United States
CATEGORIES:Entertainment,Meetings,MHSAA Board,Special Events
ORGANIZER;CN="Marion High School Alumni Association":MAILTO:info[at]mhsalum.com
GEO:40.5920819;-85.6607211
X-APPLE-STRUCTURED-LOCATION;VALUE=URI;X-ADDRESS=Meshingomesia Golf and Social Club 2225 Lagro Road Marion IN 46952 United States;X-APPLE-RADIUS=500;X-TITLE=2225 Lagro Road:geo:-85.6607211,40.5920819
END:VEVENT
BEGIN:VEVENT
DTSTART;TZID=America/Indiana/Indianapolis:20161206T180000
DTEND;TZID=America/Indiana/Indianapolis:20161206T200000
DTSTAMP:20260421T154703
CREATED:20161122T203753Z
LAST-MODIFIED:20161129T171107Z
UID:19438-1481047200-1481054400@mhsalum.com
SUMMARY:MHSAA 2016 Annual Meeting
DESCRIPTION:Come join us for a night of GIANT fellowship with your fellow alumni! \nTuesday December 6th @ Meshingomesia Golf and Social Club! Your ticket includes hors d’oeuvres\, and cocktails will be available. \nClick here to register!   \n \n(NOTE: If you don’t want to pay online\, you can pay at the door\, but you must reserve your space ahead of time by emailing info@mhsalum.com.) \n>> RESERVATIONS ARE DUE by noon Dec. 1!
URL:https://mhsalum.com/event/2016-annual-meeting/
LOCATION:Meshingomesia Golf and Social Club\, 2225 Lagro Road\, Marion\, IN\, 46952\, United States
CATEGORIES:Entertainment,Meetings,Special Events
ATTACH;FMTTYPE=image/jpeg:https://mhsalum.com/wp-content/uploads/2016/11/2016-1.jpg
ORGANIZER;CN="Marion High School Alumni Association":MAILTO:info[at]mhsalum.com
GEO:40.5920819;-85.6607211
X-APPLE-STRUCTURED-LOCATION;VALUE=URI;X-ADDRESS=Meshingomesia Golf and Social Club 2225 Lagro Road Marion IN 46952 United States;X-APPLE-RADIUS=500;X-TITLE=2225 Lagro Road:geo:-85.6607211,40.5920819
END:VEVENT
BEGIN:VEVENT
DTSTART;VALUE=DATE:20150717
DTEND;VALUE=DATE:20150718
DTSTAMP:20260421T154703
CREATED:20150603T160316Z
LAST-MODIFIED:20150604T141132Z
UID:16519-1437091200-1437177599@mhsalum.com
SUMMARY:Giant Challenge 2015 Golf Scramble
DESCRIPTION:This summer\, we’re participating in a special alumni event called the Giant Challenge. We’re inviting former Giant athletes to come back for a friendly competition with current athletes. All funds raised through these events July 17-18\, 2015\, will help provide funding for Marion Community Schools athletic programs. \n>> Golf Scramble details: More info\, including how you can set your tee time now!   Tell me more!\n>> Weekend overview: Who’s playing\, when/where.   Tell me more!\n>> Spread the word! Download and display the event flier.   Show me!\n\nWill you also consider giving to the Giant Dreams Endowed Giving Campaign? Click here to learn more about the campaign!
URL:https://mhsalum.com/event/giant-challenge-2015-golf-scramble/
LOCATION:Meshingomesia Golf and Social Club\, 2225 Lagro Road\, Marion\, IN\, 46952\, United States
CATEGORIES:Athletics,Entertainment,Fundraisers,Special Events
ATTACH;FMTTYPE=image/jpeg:https://mhsalum.com/wp-content/uploads/2015/06/GiantChallenge_golfscramble.jpg
ORGANIZER;CN="Doug Hill":MAILTO:drhill[at]pga.com
GEO:40.5920819;-85.6607211
X-APPLE-STRUCTURED-LOCATION;VALUE=URI;X-ADDRESS=Meshingomesia Golf and Social Club 2225 Lagro Road Marion IN 46952 United States;X-APPLE-RADIUS=500;X-TITLE=2225 Lagro Road:geo:-85.6607211,40.5920819
END:VEVENT
END:VCALENDAR